BEGIN:VCALENDAR
VERSION:2.0
PRODID:-//Milieux - ECPv6.15.17//NONSGML v1.0//EN
CALSCALE:GREGORIAN
METHOD:PUBLISH
X-WR-CALNAME:Milieux
X-ORIGINAL-URL:https://milieux.concordia.ca
X-WR-CALDESC:Events for Milieux
REFRESH-INTERVAL;VALUE=DURATION:PT1H
X-Robots-Tag:noindex
X-PUBLISHED-TTL:PT1H
BEGIN:VTIMEZONE
TZID:America/Toronto
BEGIN:DAYLIGHT
TZOFFSETFROM:-0500
TZOFFSETTO:-0400
TZNAME:EDT
DTSTART:20250309T070000
END:DAYLIGHT
BEGIN:STANDARD
TZOFFSETFROM:-0400
TZOFFSETTO:-0500
TZNAME:EST
DTSTART:20251102T060000
END:STANDARD
BEGIN:DAYLIGHT
TZOFFSETFROM:-0500
TZOFFSETTO:-0400
TZNAME:EDT
DTSTART:20260308T070000
END:DAYLIGHT
BEGIN:STANDARD
TZOFFSETFROM:-0400
TZOFFSETTO:-0500
TZNAME:EST
DTSTART:20261101T060000
END:STANDARD
BEGIN:DAYLIGHT
TZOFFSETFROM:-0500
TZOFFSETTO:-0400
TZNAME:EDT
DTSTART:20270314T070000
END:DAYLIGHT
BEGIN:STANDARD
TZOFFSETFROM:-0400
TZOFFSETTO:-0500
TZNAME:EST
DTSTART:20271107T060000
END:STANDARD
END:VTIMEZONE
BEGIN:VEVENT
DTSTART;TZID=America/Toronto:20260421T130000
DTEND;TZID=America/Toronto:20260421T153000
DTSTAMP:20260421T073805
CREATED:20260407T150228Z
LAST-MODIFIED:20260407T150228Z
UID:12615-1776776400-1776785400@milieux.concordia.ca
SUMMARY:Cookout session #1: Recipe Methodology in AI
DESCRIPTION:Many\, many Machine Agencies’ Writing Workshop\n  \nAI Chantier of the Hexagram Network brings together maker-thinkers whose work spans machine learning\, interaction design\, and experience design\, to create a community of practice through a publication process. \nPrompting potential contributors with an unusual format\, Many\, Many Machine Agencies asks for recipes\, instructions\, or games that centre the problem of agency and interaction and the importance of new kinds of encounters with machines. This edited collection is indeed a kind of a cookbook for engaging critically with machines\, and as such\, we take inspiration from celebrated cookbook authors\, like MFK Fisher\, who provide recipes and instructions for dishes\, while embedding them in a broader biographical and cultural narrative. \nThis cookout session invites contributors to the AI Chantier publication drive to: \n\nLearn more about the recipe methodology and its relevance for engaging with machine agencies and AI\nTo talk about their writing project (share ingredients) and get feedback\nGet a clearer picture about what the publishing process will look like.\n\n  \nWho can participate?\nProspective authors are invited to contribute to this session. We also invite those who are curious about the project. \nThis activity is produced in collaboration with Machine Agencies and Milieux Institute’s Speculative Life Cluster as part of the 2026 Interdisciplinary Encounters. \n  \n  April 21\, 2026 \n 1 -3:30 PM \nSpeculative Life EV 10.625 \n To register or for any questions\, please contact nicole.debrabandere@gmail.com \n  \n  \n  \n                     \n 
URL:https://milieux.concordia.ca/event/cookout-session-1-recipe-methodology-in-ai/
LOCATION:Speculative Life Research Cluster  EV 10.625
CATEGORIES:Workshop
ATTACH;FMTTYPE=image/png:https://milieux.concordia.ca/wp-content/uploads/2026/03/Header-Cookout-AI-EN.png
END:VEVENT
END:VCALENDAR