BEGIN:VCALENDAR
VERSION:2.0
PRODID:-//Milieux - ECPv6.15.17//NONSGML v1.0//EN
CALSCALE:GREGORIAN
METHOD:PUBLISH
X-WR-CALNAME:Milieux
X-ORIGINAL-URL:https://milieux.concordia.ca
X-WR-CALDESC:Events for Milieux
REFRESH-INTERVAL;VALUE=DURATION:PT1H
X-Robots-Tag:noindex
X-PUBLISHED-TTL:PT1H
BEGIN:VTIMEZONE
TZID:America/Toronto
BEGIN:DAYLIGHT
TZOFFSETFROM:-0500
TZOFFSETTO:-0400
TZNAME:EDT
DTSTART:20250309T070000
END:DAYLIGHT
BEGIN:STANDARD
TZOFFSETFROM:-0400
TZOFFSETTO:-0500
TZNAME:EST
DTSTART:20251102T060000
END:STANDARD
BEGIN:DAYLIGHT
TZOFFSETFROM:-0500
TZOFFSETTO:-0400
TZNAME:EDT
DTSTART:20260308T070000
END:DAYLIGHT
BEGIN:STANDARD
TZOFFSETFROM:-0400
TZOFFSETTO:-0500
TZNAME:EST
DTSTART:20261101T060000
END:STANDARD
BEGIN:DAYLIGHT
TZOFFSETFROM:-0500
TZOFFSETTO:-0400
TZNAME:EDT
DTSTART:20270314T070000
END:DAYLIGHT
BEGIN:STANDARD
TZOFFSETFROM:-0400
TZOFFSETTO:-0500
TZNAME:EST
DTSTART:20271107T060000
END:STANDARD
END:VTIMEZONE
BEGIN:VEVENT
DTSTART;TZID=America/Toronto:20260422T170000
DTEND;TZID=America/Toronto:20260422T190000
DTSTAMP:20260422T165210
CREATED:20260417T091016Z
LAST-MODIFIED:20260417T093323Z
UID:12781-1776877200-1776884400@milieux.concordia.ca
SUMMARY:Workshop in the Performance Lab
DESCRIPTION:For those of you that have been wanting to learn a bit more about how to work with the tech equipment in the Performance Lab\, this workshop is for you!\n\nWe will be looking at the light board\, the audio mixer\, and how to use these with some of the software that is accessible on the iMac computer in your work in the Performance Lab. The first section of the workshop introduces participants to the gear and equipment\, and the second half\, we’ll experiment and play around together!\n\nPlease feel free to bring any audio and/or video contents that you would like to experiment with.\nThe same workshop format will be given on both two dates (April 22 &May 7)\n\nNo need for a sign up\, just show up!\n\n\n📅 April 22\n⏱️ 5-7 PM\n📍 Performance lab EV 10.785
URL:https://milieux.concordia.ca/event/workshop-in-the-performance-lab/
LOCATION:Performance Lab EV 10.785
CATEGORIES:Workshop
ATTACH;FMTTYPE=image/png:https://milieux.concordia.ca/wp-content/uploads/2026/04/Untitled-2-3.png
END:VEVENT
END:VCALENDAR