BEGIN:VCALENDAR
VERSION:2.0
PRODID:-//Milieux - ECPv6.15.17//NONSGML v1.0//EN
CALSCALE:GREGORIAN
METHOD:PUBLISH
X-WR-CALNAME:Milieux
X-ORIGINAL-URL:https://milieux.concordia.ca
X-WR-CALDESC:Events for Milieux
REFRESH-INTERVAL;VALUE=DURATION:PT1H
X-Robots-Tag:noindex
X-PUBLISHED-TTL:PT1H
BEGIN:VTIMEZONE
TZID:America/Toronto
BEGIN:DAYLIGHT
TZOFFSETFROM:-0500
TZOFFSETTO:-0400
TZNAME:EDT
DTSTART:20250309T070000
END:DAYLIGHT
BEGIN:STANDARD
TZOFFSETFROM:-0400
TZOFFSETTO:-0500
TZNAME:EST
DTSTART:20251102T060000
END:STANDARD
BEGIN:DAYLIGHT
TZOFFSETFROM:-0500
TZOFFSETTO:-0400
TZNAME:EDT
DTSTART:20260308T070000
END:DAYLIGHT
BEGIN:STANDARD
TZOFFSETFROM:-0400
TZOFFSETTO:-0500
TZNAME:EST
DTSTART:20261101T060000
END:STANDARD
BEGIN:DAYLIGHT
TZOFFSETFROM:-0500
TZOFFSETTO:-0400
TZNAME:EDT
DTSTART:20270314T070000
END:DAYLIGHT
BEGIN:STANDARD
TZOFFSETFROM:-0400
TZOFFSETTO:-0500
TZNAME:EST
DTSTART:20271107T060000
END:STANDARD
END:VTIMEZONE
BEGIN:VEVENT
DTSTART;TZID=America/Toronto:20260507T110000
DTEND;TZID=America/Toronto:20260507T120000
DTSTAMP:20260422T195340
CREATED:20260417T100545Z
LAST-MODIFIED:20260417T100855Z
UID:12789-1778151600-1778155200@milieux.concordia.ca
SUMMARY:Environmental materials and/as methods
DESCRIPTION:How to mediate the banal?\nInspired by Heather Davis’s forthcoming piece\, Banal Violence: Breathing Plastic Air\, this two-day workshop invites participants to investigate materiality as both object and method of study. Together\, we will critically engage with the question of material banality through hands-on investigation and collective creation. \nInspired by Rob Nixon’s seminal concept of slow violence\, Davis switches ‘slow’ for ‘banal’\, to focus the attention not only on the temporality of environmental violence\, as incremental and accretive\, but also on its affective and bodily registers. Toxicity scholars have shown that slow violence is both a direct experience and something needing mediation to be understood. We argue that this hard-to-perceive slow violence is even more difficult to communicate when it is also banal. \nAs part of our commitment to exploring creative strategies for mediating banality\, we invite students\, scholars\, and practitioners to investigate everyday material encounters across Montreal in a workshop. \nParticipants will collaboratively act as gatherers\, employing biomaterial capture methods to identify cues of banal violence across the city. Back at Spec Life\, groups will interpret their collected data using a range of methodologies familiar to different groups in the cluster\, including multimodal ethnography\, CLEAR Lab’s DIY microplastic forensics protocol\, and microscopy/material analysis. Following this\, participants will synthesize their insights through a series of speculative map-making exercises\, attempting to situate their discoveries in relation to time and space. The workshop will culminate in the co-production of speculative analog and digital maps\, making visible some of the manifold forms of banal violence present in the city of Montreal. \n  \n🎟️ Space is limited and requires registration: \n \n  \n  Start-up: May 7 11 AM – 12 PM \n  Workshop: May 8 9 AM – 4 PM \nSpeculative Life EV 10.625
URL:https://milieux.concordia.ca/event/environmental-materials-and-as-methods/
LOCATION:Speculative Life Research Cluster  EV 10.625
CATEGORIES:Workshop
ATTACH;FMTTYPE=image/png:https://milieux.concordia.ca/wp-content/uploads/2026/04/Header-workshopeco-EN.png
END:VEVENT
BEGIN:VEVENT
DTSTART;TZID=America/Toronto:20260507T110000
DTEND;TZID=America/Toronto:20260507T130000
DTSTAMP:20260422T195340
CREATED:20260417T093417Z
LAST-MODIFIED:20260417T093624Z
UID:12785-1778151600-1778158800@milieux.concordia.ca
SUMMARY:LePARC Tech Workshop
DESCRIPTION:We will be looking at the light board\, the audio mixer\, and how to use these with some of the software that is accessible on the iMac computer in your work in the Performance Lab. The first section of the workshop introduces participants to the gear and equipment\, and the second half\, we’ll experiment and play around together!\n\nPlease feel free to bring any audio and/or video contents that you would like to experiment with.\nThe same workshop format will be given on both two dates (April 22 &May 7)\n\nNo need for a sign up\, just show up!\n\n\n📅 May 7\n⏱️ 11 AM -1 PM\n📍 Performance lab EV 10.785
URL:https://milieux.concordia.ca/event/12785/
LOCATION:Performance Lab EV 10.785
CATEGORIES:Workshop
ATTACH;FMTTYPE=image/png:https://milieux.concordia.ca/wp-content/uploads/2026/04/Untitled-2-3.png
END:VEVENT
BEGIN:VEVENT
DTSTART;TZID=America/Toronto:20260508T090000
DTEND;TZID=America/Toronto:20260508T160000
DTSTAMP:20260422T195340
CREATED:20260417T100706Z
LAST-MODIFIED:20260417T100819Z
UID:12793-1778230800-1778256000@milieux.concordia.ca
SUMMARY:Environmental materials and/as methods
DESCRIPTION:How to mediate the banal?\nInspired by Heather Davis’s forthcoming piece\, Banal Violence: Breathing Plastic Air\, this two-day workshop invites participants to investigate materiality as both object and method of study. Together\, we will critically engage with the question of material banality through hands-on investigation and collective creation. \nInspired by Rob Nixon’s seminal concept of slow violence\, Davis switches ‘slow’ for ‘banal’\, to focus the attention not only on the temporality of environmental violence\, as incremental and accretive\, but also on its affective and bodily registers. Toxicity scholars have shown that slow violence is both a direct experience and something needing mediation to be understood. We argue that this hard-to-perceive slow violence is even more difficult to communicate when it is also banal. \nAs part of our commitment to exploring creative strategies for mediating banality\, we invite students\, scholars\, and practitioners to investigate everyday material encounters across Montreal in a workshop. \nParticipants will collaboratively act as gatherers\, employing biomaterial capture methods to identify cues of banal violence across the city. Back at Spec Life\, groups will interpret their collected data using a range of methodologies familiar to different groups in the cluster\, including multimodal ethnography\, CLEAR Lab’s DIY microplastic forensics protocol\, and microscopy/material analysis. Following this\, participants will synthesize their insights through a series of speculative map-making exercises\, attempting to situate their discoveries in relation to time and space. The workshop will culminate in the co-production of speculative analog and digital maps\, making visible some of the manifold forms of banal violence present in the city of Montreal. \n  \n🎟️ Space is limited and requires registration: \n \n  \n  Start-up: May 7 11 AM – 12 PM \n  Workshop: May 8 9 AM – 4 PM \nSpeculative Life EV 10.625
URL:https://milieux.concordia.ca/event/environmental-materials-and-as-methods-2/
LOCATION:Speculative Life Research Cluster  EV 10.625
CATEGORIES:Workshop
ATTACH;FMTTYPE=image/png:https://milieux.concordia.ca/wp-content/uploads/2026/04/Header-workshopeco-EN.png
END:VEVENT
END:VCALENDAR