BEGIN:VCALENDAR
VERSION:2.0
PRODID:-//Milieux - ECPv6.15.17//NONSGML v1.0//EN
CALSCALE:GREGORIAN
METHOD:PUBLISH
X-ORIGINAL-URL:https://milieux.concordia.ca
X-WR-CALDESC:Events for Milieux
REFRESH-INTERVAL;VALUE=DURATION:PT1H
X-Robots-Tag:noindex
X-PUBLISHED-TTL:PT1H
BEGIN:VTIMEZONE
TZID:America/Toronto
BEGIN:DAYLIGHT
TZOFFSETFROM:-0500
TZOFFSETTO:-0400
TZNAME:EDT
DTSTART:20250309T070000
END:DAYLIGHT
BEGIN:STANDARD
TZOFFSETFROM:-0400
TZOFFSETTO:-0500
TZNAME:EST
DTSTART:20251102T060000
END:STANDARD
BEGIN:DAYLIGHT
TZOFFSETFROM:-0500
TZOFFSETTO:-0400
TZNAME:EDT
DTSTART:20260308T070000
END:DAYLIGHT
BEGIN:STANDARD
TZOFFSETFROM:-0400
TZOFFSETTO:-0500
TZNAME:EST
DTSTART:20261101T060000
END:STANDARD
BEGIN:DAYLIGHT
TZOFFSETFROM:-0500
TZOFFSETTO:-0400
TZNAME:EDT
DTSTART:20270314T070000
END:DAYLIGHT
BEGIN:STANDARD
TZOFFSETFROM:-0400
TZOFFSETTO:-0500
TZNAME:EST
DTSTART:20271107T060000
END:STANDARD
END:VTIMEZONE
BEGIN:VEVENT
DTSTART;TZID=America/Toronto:20260423T130000
DTEND;TZID=America/Toronto:20260423T160000
DTSTAMP:20260423T055847
CREATED:20260324T135356Z
LAST-MODIFIED:20260324T203944Z
UID:12537-1776949200-1776960000@milieux.concordia.ca
SUMMARY:[WORKSHOP] The Ghostly Image
DESCRIPTION:Join us for The Ghostly Image\, the third workshop of our “Reimagining Research” Spring Workshop Series!\nFrom creating shared 3-D immersive virtual galleries\, exploring creative structures through origami\, examining archiving practices through bio-plastics\, materializing the materiality of the image via emulsion lifting and discovering the new facilities and equipment at LePARC’s revamped Performance Lab\, we have an exciting array of ways to renew and reimagine your research methodologies and practices. \n  \n \n  \n Spaces are limited. Please RSVP to Marc Beaulieu marc.beaulieu@concordia.ca and include within the subject line “Ghostly Image”. \n  \nABOUT THE WORKSHOP: \n\nThis workshop will allow participants to re-imagine and transform photographs\, digital images and other works through Polaroid emulsion lifts. Exploring the materiality of film and photographic practice\, participants will work directly with the image of their choosing\, lifting\, folding\, stretching and tearing it. The process of emulsion lifting briefly reduces the image to a ghostly film to then be bonded to another material such as paper\, cardboard\, or fabric. This physical manipulation of imagery provides a framework to discuss transparencies/opacities of identity and selfhood\, thinking through ideas of disclosure and (mis)recognition. \n\nParticipants are invited to bring pre-existing digital images that can be printed on Polaroid film\, or to take photos on site to experiment with the process.\n  \n                                                   \n  \nABOUT CASPER SUTTON-FOSMAN:\n  \n\nCasper Sutton-Fosman is a curator\, artist and academic based in Tiohtià:ke/Mooniyang\, also known as Montreal. Their work engages with queer and disabled relationships to lens-based art and image capture technology\, moving through complex temporalities and webs of connection. They hold an MFA from OCAD University and are a PhD student in the Humanities program at Concordia University.\n\n  \n  \n\n April 23\, 2026 \n 1 – 4 PM \n MilieuxMake Space EV 10.825
URL:https://milieux.concordia.ca/event/workshop-the-ghostly-image/
LOCATION:MilieuxMake Space (EV-10.825)
CATEGORIES:Workshop
ATTACH;FMTTYPE=image/png:https://milieux.concordia.ca/wp-content/uploads/2026/03/Untitled-10-Event-.png
END:VEVENT
END:VCALENDAR