BEGIN:VCALENDAR
VERSION:2.0
PRODID:-//Milieux - ECPv6.15.17//NONSGML v1.0//EN
CALSCALE:GREGORIAN
METHOD:PUBLISH
X-ORIGINAL-URL:https://milieux.concordia.ca
X-WR-CALDESC:Events for Milieux
REFRESH-INTERVAL;VALUE=DURATION:PT1H
X-Robots-Tag:noindex
X-PUBLISHED-TTL:PT1H
BEGIN:VTIMEZONE
TZID:America/Toronto
BEGIN:DAYLIGHT
TZOFFSETFROM:-0500
TZOFFSETTO:-0400
TZNAME:EDT
DTSTART:20220313T070000
END:DAYLIGHT
BEGIN:STANDARD
TZOFFSETFROM:-0400
TZOFFSETTO:-0500
TZNAME:EST
DTSTART:20221106T060000
END:STANDARD
BEGIN:DAYLIGHT
TZOFFSETFROM:-0500
TZOFFSETTO:-0400
TZNAME:EDT
DTSTART:20230312T070000
END:DAYLIGHT
BEGIN:STANDARD
TZOFFSETFROM:-0400
TZOFFSETTO:-0500
TZNAME:EST
DTSTART:20231105T060000
END:STANDARD
BEGIN:DAYLIGHT
TZOFFSETFROM:-0500
TZOFFSETTO:-0400
TZNAME:EDT
DTSTART:20240310T070000
END:DAYLIGHT
BEGIN:STANDARD
TZOFFSETFROM:-0400
TZOFFSETTO:-0500
TZNAME:EST
DTSTART:20241103T060000
END:STANDARD
END:VTIMEZONE
BEGIN:VEVENT
DTSTART;TZID=America/Toronto:20230914T140000
DTEND;TZID=America/Toronto:20230914T170000
DTSTAMP:20260421T094653
CREATED:20230830T175305Z
LAST-MODIFIED:20230831T141929Z
UID:6423-1694700000-1694710800@milieux.concordia.ca
SUMMARY:Back to Basics: Make Your First Website Workshop
DESCRIPTION:Starting from nothing but a text editor and a web browser\, we will code our way to HTML/CSS basics and make a first website! This workshop will help you get started with creating websites from scratch\, without using any framework. \nBeginners welcome! — no need to know how to code. The workshop is open to Concordia students and the general public (max number of participants: 15). Facilitator: Edith Viau \n*Bring your own laptop and charger. \n**We also encourage the wearing of masks. \nWHERE: Concordia University\, EV building\, Resource Room EV 11.705\nWHEN: Thursday Sep 14\, 2-5pm \nLearn more on the Solar Media Collective website here. \nREGISTER HERE \nOrganized by the Solar Media Collective supported by funding from the Milieux Institute
URL:https://milieux.concordia.ca/event/back-to-basics-make-your-first-website-workshop/
CATEGORIES:Workshop
ATTACH;FMTTYPE=image/png:https://milieux.concordia.ca/wp-content/uploads/2023/08/edith-workshop-1024x512-1.png
END:VEVENT
END:VCALENDAR